BEGIN:VCALENDAR
PRODID:-//rogers10633//EN
VERSION:2.0
BEGIN:VEVENT
SUMMARY:Rogers Jones &amp; Co: Chester Monthly
PRIORITY:0
CLASS:PUBLIC
DTSTART:20260505T090000Z
DTEND:20260505T225900Z
DESCRIPTION:Buyer’s Premium&nbsp;26.4% inc. VAT
Online bidding, commission bids, and telephone bids invited - bidding in room is not available for this sale&nbsp;
Please ensure you are satisfied with lots before bidding, see details below to arrange viewing/condition reports&nbsp;
Card Registration&nbsp;Debit cards only
Payment&nbsp;By bank transfer only to be settled within 3 working days. We do not accept payment in person at the saleroom.
Viewing&nbsp;By strict appointment only - please email info@rogersjones.co.uk or call 01244 681311 to book.
Condition Reports&nbsp;email lotenquirynw@rogersjones.co.uk.
Collection&nbsp;Strictly by appointment. After payment please call the office 01244 681311 to book.
X-ALT-DESC;FMTTYPE=text/html:<p><strong>Buyer’s Premium&nbsp;<span style="text-decoration: underline">26.4% inc. VAT</span></strong></p><p>Online bidding, commission bids, and telephone bids invited - bidding in room is not available for this sale&nbsp;</p><p>Please ensure you are satisfied with lots before bidding, see details below to arrange viewing/condition reports&nbsp;</p><p><strong>Card Registration</strong>&nbsp;Debit cards only</p><p><strong>Payment</strong>&nbsp;By bank transfer only to be settled within 3 working days. We do not accept payment in person at the saleroom.</p><p><strong>Viewing</strong>&nbsp;By strict appointment only - please email info@rogersjones.co.uk or call 01244 681311 to book.</p><p><strong>Condition Reports</strong>&nbsp;email lotenquirynw@rogersjones.co.uk.</p><p><strong>Collection</strong>&nbsp;Strictly by appointment. After payment please call the office 01244 681311 to book.</p>
LOCATION:Rogers Jones Auctioneers , 6 Central Trading Estate, Marley Way, Saltney, Chester, CH4 8SX, United Kingdom
END:VEVENT
END:VCALENDAR